BEGIN:VCALENDAR
VERSION:2.0
PRODID:-//Tukios.com/
BEGIN:VEVENT
UID:2658df77-9b2d-4961-bc80-76466c2a95d3@www.lamiellfuneralhome.com
DTSTAMP:20260420T214003Z
DTSTART:20260422T210000Z
DTEND:20260423T000000Z
SUMMARY:Visitation
DESCRIPTION:
URL:https://www.lamiellfuneralhome.com/obituaries/ethel-halas
LOCATION: 1353 Cleveland Ave NW  Canton OH 44703
GEO:40.8126506;-81.3782696
END:VEVENT
END:VCALENDAR