BEGIN:VCALENDAR
VERSION:2.0
PRODID:-//Tukios.com/
BEGIN:VEVENT
UID:e8ceb2cc-3475-4f8f-8cbb-61453433aeb9@www.lamiellfuneralhome.com
DTSTAMP:20260420T213557Z
DTSTART:20260423T140000Z
DTEND:20260423T150000Z
SUMMARY:Mass
DESCRIPTION:
URL:https://www.lamiellfuneralhome.com/obituaries/ethel-halas
LOCATION: 241 S. Main Street  North Canton OH 44720
GEO:40.8748445;-81.4023848
END:VEVENT
END:VCALENDAR